BEGIN:VCALENDAR
VERSION:2.0
PRODID:-//AIA Mid-Missouri - ECPv6.15.20//NONSGML v1.0//EN
CALSCALE:GREGORIAN
METHOD:PUBLISH
X-WR-CALNAME:AIA Mid-Missouri
X-ORIGINAL-URL:https://aiamid-missouri.com
X-WR-CALDESC:Events for AIA Mid-Missouri
REFRESH-INTERVAL;VALUE=DURATION:PT1H
X-Robots-Tag:noindex
X-PUBLISHED-TTL:PT1H
BEGIN:VTIMEZONE
TZID:America/Chicago
BEGIN:DAYLIGHT
TZOFFSETFROM:-0600
TZOFFSETTO:-0500
TZNAME:CDT
DTSTART:20240310T080000
END:DAYLIGHT
BEGIN:STANDARD
TZOFFSETFROM:-0500
TZOFFSETTO:-0600
TZNAME:CST
DTSTART:20241103T070000
END:STANDARD
BEGIN:DAYLIGHT
TZOFFSETFROM:-0600
TZOFFSETTO:-0500
TZNAME:CDT
DTSTART:20250309T080000
END:DAYLIGHT
BEGIN:STANDARD
TZOFFSETFROM:-0500
TZOFFSETTO:-0600
TZNAME:CST
DTSTART:20251102T070000
END:STANDARD
BEGIN:DAYLIGHT
TZOFFSETFROM:-0600
TZOFFSETTO:-0500
TZNAME:CDT
DTSTART:20260308T080000
END:DAYLIGHT
BEGIN:STANDARD
TZOFFSETFROM:-0500
TZOFFSETTO:-0600
TZNAME:CST
DTSTART:20261101T070000
END:STANDARD
END:VTIMEZONE
BEGIN:VEVENT
DTSTART;TZID=America/Chicago:20250718T113000
DTEND;TZID=America/Chicago:20250718T123000
DTSTAMP:20260424T012935
CREATED:20250714T024430Z
LAST-MODIFIED:20250714T024430Z
UID:811-1752838200-1752841800@aiamid-missouri.com
SUMMARY:AIA Mid-Missouri LnL July 2025
DESCRIPTION:COMPONENT MEETING July 18th –\nVirtual & In-Person LnL (1) HSW/LU CREDIT \nAIA Mid-Missouri will be hosting 1hr of 3rd party presented\, AIA approved Continuing Education \n  \nWhen: Friday July 18th\, 2025\, 11:30am – 12:30pm \nWhat: 1hr In-Person & Virtual presentation for Continuing Education – LU/HSW \nProgram: Weather Resistant Barriers in Exterior Vertical Wall by TYPAR Building & Construction \nWhere: Presented Virtually & In-Person \nIn-person Lunch provided at 302 Campusview\, Suite 208 (Wallace Architects)\, Columbia\, MO 65201 – (573) 256-7200 if you have trouble finding us. \nWho: YOU! Just show up.  There is no cost to attend this continuing education session.  Lunch will be provided by Overhead Door Company. \n  \nVirtual Invitation: \nJoin the meeting now \nMeeting ID: 278 404 219 914 \nPasscode: hg9CJ2j4
URL:https://aiamid-missouri.com/event/aia-mid-missouri-lnl-july-2025/
LOCATION:Wallace Architects\, 302 Campusview\, Suite 208\, Columbia\, MO\, 65201\, United States
END:VEVENT
END:VCALENDAR