BEGIN:VCALENDAR
VERSION:2.0
PRODID:-//AIA Mid-Missouri - ECPv6.15.20//NONSGML v1.0//EN
CALSCALE:GREGORIAN
METHOD:PUBLISH
X-WR-CALNAME:AIA Mid-Missouri
X-ORIGINAL-URL:https://aiamid-missouri.com
X-WR-CALDESC:Events for AIA Mid-Missouri
REFRESH-INTERVAL;VALUE=DURATION:PT1H
X-Robots-Tag:noindex
X-PUBLISHED-TTL:PT1H
BEGIN:VTIMEZONE
TZID:America/Chicago
BEGIN:DAYLIGHT
TZOFFSETFROM:-0600
TZOFFSETTO:-0500
TZNAME:CDT
DTSTART:20250309T080000
END:DAYLIGHT
BEGIN:STANDARD
TZOFFSETFROM:-0500
TZOFFSETTO:-0600
TZNAME:CST
DTSTART:20251102T070000
END:STANDARD
BEGIN:DAYLIGHT
TZOFFSETFROM:-0600
TZOFFSETTO:-0500
TZNAME:CDT
DTSTART:20260308T080000
END:DAYLIGHT
BEGIN:STANDARD
TZOFFSETFROM:-0500
TZOFFSETTO:-0600
TZNAME:CST
DTSTART:20261101T070000
END:STANDARD
BEGIN:DAYLIGHT
TZOFFSETFROM:-0600
TZOFFSETTO:-0500
TZNAME:CDT
DTSTART:20270314T080000
END:DAYLIGHT
BEGIN:STANDARD
TZOFFSETFROM:-0500
TZOFFSETTO:-0600
TZNAME:CST
DTSTART:20271107T070000
END:STANDARD
END:VTIMEZONE
BEGIN:VEVENT
DTSTART;TZID=America/Chicago:20260320T113000
DTEND;TZID=America/Chicago:20260320T123000
DTSTAMP:20260423T122822
CREATED:20260108T213313Z
LAST-MODIFIED:20260108T213531Z
UID:926-1774006200-1774009800@aiamid-missouri.com
SUMMARY:LnL 3/20/26
DESCRIPTION:COMPONENT MEETING February 20th\, 2026–\nVirtual & In-Person LnL (1) HSW/LU CREDIT \nAIA Mid-Missouri will be hosting 1hr of 3rd party presented\, AIA approved Continuing Education \n  \nWhen: Friday March 20th\, 2026\, 11:30am – 12:30pm \nWhat: 1hr In-Person & Virtual presentation for Continuing Education – LU/HSW \nProgram: ZipSystems by Huber \nWhere: Presented Virtually & In-Person \nIn-person Lunch provided at 302 Campusview\, Suite 208 (Wallace Architects)\, Columbia\, MO 65201 – (573) 256-7200 if you have trouble finding us. \nWho: YOU! Just show up.  There is no cost to attend this continuing education session.  Lunch will be provided by Huber
URL:https://aiamid-missouri.com/event/lnl-3-20-26/
CATEGORIES:Lunch & Learn
END:VEVENT
BEGIN:VEVENT
DTSTART;TZID=America/Chicago:20260331T093000
DTEND;TZID=America/Chicago:20260331T150000
DTSTAMP:20260423T122822
CREATED:20260109T155424Z
LAST-MODIFIED:20260109T155426Z
UID:939-1774949400-1774969200@aiamid-missouri.com
SUMMARY:2026 AIA MO Grassroots
DESCRIPTION:
URL:https://aiamid-missouri.com/event/2026-aia-mo-grassroots/
CATEGORIES:Lunch & Learn,Social
END:VEVENT
END:VCALENDAR